BEGIN:VCALENDAR
VERSION:2.0
PRODID:-//Friends of the Bedford Public Library - ECPv6.15.20//NONSGML v1.0//EN
CALSCALE:GREGORIAN
METHOD:PUBLISH
X-ORIGINAL-URL:https://friendsofbedfordlibrary.org
X-WR-CALDESC:Events for Friends of the Bedford Public Library
REFRESH-INTERVAL;VALUE=DURATION:PT1H
X-Robots-Tag:noindex
X-PUBLISHED-TTL:PT1H
BEGIN:VTIMEZONE
TZID:America/Halifax
BEGIN:DAYLIGHT
TZOFFSETFROM:-0400
TZOFFSETTO:-0300
TZNAME:ADT
DTSTART:20230312T060000
END:DAYLIGHT
BEGIN:STANDARD
TZOFFSETFROM:-0300
TZOFFSETTO:-0400
TZNAME:AST
DTSTART:20231105T050000
END:STANDARD
BEGIN:DAYLIGHT
TZOFFSETFROM:-0400
TZOFFSETTO:-0300
TZNAME:ADT
DTSTART:20240310T060000
END:DAYLIGHT
BEGIN:STANDARD
TZOFFSETFROM:-0300
TZOFFSETTO:-0400
TZNAME:AST
DTSTART:20241103T050000
END:STANDARD
BEGIN:DAYLIGHT
TZOFFSETFROM:-0400
TZOFFSETTO:-0300
TZNAME:ADT
DTSTART:20250309T060000
END:DAYLIGHT
BEGIN:STANDARD
TZOFFSETFROM:-0300
TZOFFSETTO:-0400
TZNAME:AST
DTSTART:20251102T050000
END:STANDARD
END:VTIMEZONE
BEGIN:VEVENT
DTSTART;TZID=America/Halifax:20240608T100000
DTEND;TZID=America/Halifax:20240608T133000
DTSTAMP:20260423T181648
CREATED:20141230T020719Z
LAST-MODIFIED:20240522T182235Z
UID:257-1717840800-1717853400@friendsofbedfordlibrary.org
SUMMARY:SPECIAL BOOK SALE - FRIENDS MEMBERS ONLY
DESCRIPTION:The Friends of the Bedford Public Library will hold a Special Book Sale in the Second Floor Book Store of Bedford Central Library. During this time slot\, The Store will be open exclusively to members of the Friends of the Bedford Library.  If not already a member\, memberships can be paid for that day prior to entering the store otherwise please present your current 2024 Friends membership card. \nYou can join the Friends on Saturday to peruse our selection of current fiction\, non-fiction best sellers\, classics\, cookbooks\, children’s books\, puzzles\, DVD’s\, romance novels\, spiritual and religious titles\, political commentary\, self help\, history\, Videos\, CD’s\, large print books\, biographies\, coffee table titles\, craft books\, and so much more! There is something for everyone.   \n Regular hours are Tuesday\, Thursday\, 1st and 3rd Saturday from 10:30 – 1:30
URL:https://friendsofbedfordlibrary.org/event/winter-book-sale/
LOCATION:Friends Book Sale\, Bedford\, VA\, 24523\, United States
CATEGORIES:Book Sale
ATTACH;FMTTYPE=image/gif:https://friendsofbedfordlibrary.org/wp-content/uploads/2014/07/bookscopy.gif
END:VEVENT
END:VCALENDAR